BEGIN:VCALENDAR
VERSION:2.0
PRODID:-//Heimatverein Posseck - ECPv6.15.20//NONSGML v1.0//EN
CALSCALE:GREGORIAN
METHOD:PUBLISH
X-WR-CALNAME:Heimatverein Posseck
X-ORIGINAL-URL:https://heimatverein-posseck.de
X-WR-CALDESC:Veranstaltungen für Heimatverein Posseck
REFRESH-INTERVAL;VALUE=DURATION:PT1H
X-Robots-Tag:noindex
X-PUBLISHED-TTL:PT1H
BEGIN:VTIMEZONE
TZID:Europe/Berlin
BEGIN:DAYLIGHT
TZOFFSETFROM:+0100
TZOFFSETTO:+0200
TZNAME:CEST
DTSTART:20250330T010000
END:DAYLIGHT
BEGIN:STANDARD
TZOFFSETFROM:+0200
TZOFFSETTO:+0100
TZNAME:CET
DTSTART:20251026T010000
END:STANDARD
BEGIN:DAYLIGHT
TZOFFSETFROM:+0100
TZOFFSETTO:+0200
TZNAME:CEST
DTSTART:20260329T010000
END:DAYLIGHT
BEGIN:STANDARD
TZOFFSETFROM:+0200
TZOFFSETTO:+0100
TZNAME:CET
DTSTART:20261025T010000
END:STANDARD
BEGIN:DAYLIGHT
TZOFFSETFROM:+0100
TZOFFSETTO:+0200
TZNAME:CEST
DTSTART:20270328T010000
END:DAYLIGHT
BEGIN:STANDARD
TZOFFSETFROM:+0200
TZOFFSETTO:+0100
TZNAME:CET
DTSTART:20271031T010000
END:STANDARD
END:VTIMEZONE
BEGIN:VTIMEZONE
TZID:UTC
BEGIN:STANDARD
TZOFFSETFROM:+0000
TZOFFSETTO:+0000
TZNAME:UTC
DTSTART:20250101T000000
END:STANDARD
END:VTIMEZONE
BEGIN:VEVENT
DTSTART;TZID=Europe/Berlin:20260430T170000
DTEND;TZID=Europe/Berlin:20260430T170000
DTSTAMP:20260422T154345
CREATED:20260124T154730Z
LAST-MODIFIED:20260307T213354Z
UID:206-1777568400-1777568400@heimatverein-posseck.de
SUMMARY:Maibaum stellen
DESCRIPTION:
URL:https://heimatverein-posseck.de/event/maibaum-stellen/
LOCATION:Hager-Scheune\, Am Kulturhaus\, Posseck
END:VEVENT
BEGIN:VEVENT
DTSTART;TZID=Europe/Berlin:20260514T100000
DTEND;TZID=Europe/Berlin:20260514T160000
DTSTAMP:20260422T154345
CREATED:20240424T191806Z
LAST-MODIFIED:20260124T154223Z
UID:132-1778752800-1778774400@heimatverein-posseck.de
SUMMARY:Himmelfahrt
DESCRIPTION:
URL:https://heimatverein-posseck.de/event/himmelfahrt/
LOCATION:Hager-Scheune\, Am Kulturhaus\, Posseck
END:VEVENT
BEGIN:VEVENT
DTSTART;TZID=UTC:20260607T090000
DTEND;TZID=UTC:20260607T170000
DTSTAMP:20260422T154345
CREATED:20240107T191125Z
LAST-MODIFIED:20260124T154313Z
UID:81-1780822800-1780851600@heimatverein-posseck.de
SUMMARY:Grenzlandwanderung
DESCRIPTION:
URL:https://heimatverein-posseck.de/event/grenzlandwanderung/
LOCATION:Hager-Scheune\, Am Kulturhaus\, Posseck
END:VEVENT
BEGIN:VEVENT
DTSTART;TZID=Europe/Berlin:20260822T100000
DTEND;TZID=Europe/Berlin:20260823T130000
DTSTAMP:20260422T154345
CREATED:20240205T201146Z
LAST-MODIFIED:20260124T154415Z
UID:115-1787392800-1787490000@heimatverein-posseck.de
SUMMARY:Sportfest
DESCRIPTION:
URL:https://heimatverein-posseck.de/event/kindersportfest/
LOCATION:Hager-Scheune\, Am Kulturhaus\, Posseck
END:VEVENT
BEGIN:VEVENT
DTSTART;VALUE=DATE:20260927
DTEND;VALUE=DATE:20260928
DTSTAMP:20260422T154345
CREATED:20240107T191352Z
LAST-MODIFIED:20260124T154522Z
UID:83-1790467200-1790553599@heimatverein-posseck.de
SUMMARY:Herbstfest
DESCRIPTION:
URL:https://heimatverein-posseck.de/event/herbstfest/
LOCATION:Hager-Scheune\, Am Kulturhaus\, Posseck
END:VEVENT
BEGIN:VEVENT
DTSTART;TZID=Europe/Berlin:20261031T150000
DTEND;TZID=Europe/Berlin:20261031T180000
DTSTAMP:20260422T154345
CREATED:20250922T193630Z
LAST-MODIFIED:20260124T154554Z
UID:190-1793458800-1793469600@heimatverein-posseck.de
SUMMARY:Halloweenparty
DESCRIPTION:
URL:https://heimatverein-posseck.de/event/halloweenparty/
LOCATION:Hager-Scheune\, Am Kulturhaus\, Posseck
END:VEVENT
BEGIN:VEVENT
DTSTART;TZID=UTC:20261121T140000
DTEND;TZID=UTC:20261121T190000
DTSTAMP:20260422T154345
CREATED:20240107T191657Z
LAST-MODIFIED:20260124T154651Z
UID:85-1795269600-1795287600@heimatverein-posseck.de
SUMMARY:Skatturnier
DESCRIPTION:
URL:https://heimatverein-posseck.de/event/skatturnier-2/
LOCATION:Hager-Scheune\, Am Kulturhaus\, Posseck
END:VEVENT
BEGIN:VEVENT
DTSTART;TZID=UTC:20261205T180000
DTEND;TZID=UTC:20261205T220000
DTSTAMP:20260422T154345
CREATED:20240107T191831Z
LAST-MODIFIED:20260124T153603Z
UID:87-1796493600-1796508000@heimatverein-posseck.de
SUMMARY:Weihnachtsfeier (für Mitglieder & Helfer)
DESCRIPTION:
URL:https://heimatverein-posseck.de/event/weihnachtsfeier-fuer-mitglieder-helfer/
LOCATION:Hager-Scheune\, Am Kulturhaus\, Posseck
END:VEVENT
BEGIN:VEVENT
DTSTART;TZID=Europe/Berlin:20261206T140000
DTEND;TZID=Europe/Berlin:20261206T180000
DTSTAMP:20260422T154345
CREATED:20240107T191949Z
LAST-MODIFIED:20260124T153531Z
UID:89-1796565600-1796580000@heimatverein-posseck.de
SUMMARY:Scheunenweihnacht
DESCRIPTION:
URL:https://heimatverein-posseck.de/event/scheunenweihnacht/
LOCATION:Hager-Scheune\, Am Kulturhaus\, Posseck
END:VEVENT
END:VCALENDAR